BEGIN:VCALENDAR
VERSION:2.0
PRODID:-//Lodge 32 - ECPv6.15.20//NONSGML v1.0//EN
CALSCALE:GREGORIAN
METHOD:PUBLISH
X-WR-CALNAME:Lodge 32
X-ORIGINAL-URL:https://www.lodge32.com
X-WR-CALDESC:Events for Lodge 32
REFRESH-INTERVAL;VALUE=DURATION:PT1H
X-Robots-Tag:noindex
X-PUBLISHED-TTL:PT1H
BEGIN:VTIMEZONE
TZID:America/Los_Angeles
BEGIN:DAYLIGHT
TZOFFSETFROM:-0800
TZOFFSETTO:-0700
TZNAME:PDT
DTSTART:20240310T100000
END:DAYLIGHT
BEGIN:STANDARD
TZOFFSETFROM:-0700
TZOFFSETTO:-0800
TZNAME:PST
DTSTART:20241103T090000
END:STANDARD
BEGIN:DAYLIGHT
TZOFFSETFROM:-0800
TZOFFSETTO:-0700
TZNAME:PDT
DTSTART:20250309T100000
END:DAYLIGHT
BEGIN:STANDARD
TZOFFSETFROM:-0700
TZOFFSETTO:-0800
TZNAME:PST
DTSTART:20251102T090000
END:STANDARD
BEGIN:DAYLIGHT
TZOFFSETFROM:-0800
TZOFFSETTO:-0700
TZNAME:PDT
DTSTART:20260308T100000
END:DAYLIGHT
BEGIN:STANDARD
TZOFFSETFROM:-0700
TZOFFSETTO:-0800
TZNAME:PST
DTSTART:20261101T090000
END:STANDARD
BEGIN:DAYLIGHT
TZOFFSETFROM:-0800
TZOFFSETTO:-0700
TZNAME:PDT
DTSTART:20270314T100000
END:DAYLIGHT
BEGIN:STANDARD
TZOFFSETFROM:-0700
TZOFFSETTO:-0800
TZNAME:PST
DTSTART:20271107T090000
END:STANDARD
END:VTIMEZONE
BEGIN:VEVENT
DTSTART;TZID=America/Los_Angeles:20260212T183000
DTEND;TZID=America/Los_Angeles:20260212T213000
DTSTAMP:20260423T084711
CREATED:20251028T173943Z
LAST-MODIFIED:20251028T173955Z
UID:3791-1770921000-1770931800@www.lodge32.com
SUMMARY:MH32 - Stated Meeting
DESCRIPTION:
URL:https://www.lodge32.com/event/mh32-stated-meeting-2026-02/
LOCATION:Barberton Grange\, 9400 NE 72nd Ave\, Vancouver\, WA\, 98665\, United States
CATEGORIES:Stated Meeting
ATTACH;FMTTYPE=image/png:https://www.lodge32.com/wp-content/uploads/2022/12/cropped-MH32-Logo-Ideas-10.png
ORGANIZER;CN="Mt. Hood Lodge No. 32":MAILTO:mthoodlodgeno32@gmail.com
END:VEVENT
BEGIN:VEVENT
DTSTART;TZID=America/Los_Angeles:20260108T183000
DTEND;TZID=America/Los_Angeles:20260108T213000
DTSTAMP:20260423T084711
CREATED:20251028T172130Z
LAST-MODIFIED:20251028T173554Z
UID:3777-1767897000-1767907800@www.lodge32.com
SUMMARY:MH32 – Stated Meeting
DESCRIPTION:
URL:https://www.lodge32.com/event/mh32-stated-meeting-2026-01/
LOCATION:Barberton Grange\, 9400 NE 72nd Ave\, Vancouver\, WA\, 98665\, United States
CATEGORIES:Stated Meeting
ATTACH;FMTTYPE=image/png:https://www.lodge32.com/wp-content/uploads/2022/12/cropped-MH32-Logo-Ideas-10.png
ORGANIZER;CN="Mt. Hood Lodge No. 32":MAILTO:mthoodlodgeno32@gmail.com
END:VEVENT
BEGIN:VEVENT
DTSTART;TZID=America/Los_Angeles:20251213T180000
DTEND;TZID=America/Los_Angeles:20251213T210000
DTSTAMP:20260423T084711
CREATED:20251028T174934Z
LAST-MODIFIED:20251028T174934Z
UID:3799-1765648800-1765659600@www.lodge32.com
SUMMARY:7 Masters Table Lodge
DESCRIPTION:     
URL:https://www.lodge32.com/event/2025-7-masters-table-lodge/
LOCATION:Barberton Grange\, 9400 NE 72nd Ave\, Vancouver\, WA\, 98665\, United States
ATTACH;FMTTYPE=image/jpeg:https://www.lodge32.com/wp-content/uploads/2025/10/photo_2025-10-05_09-23-09.jpg
ORGANIZER;CN="Mt. Hood Lodge No. 32":MAILTO:mthoodlodgeno32@gmail.com
END:VEVENT
BEGIN:VEVENT
DTSTART;TZID=America/Los_Angeles:20251113T183000
DTEND;TZID=America/Los_Angeles:20251113T213000
DTSTAMP:20260423T084711
CREATED:20251028T170622Z
LAST-MODIFIED:20251028T173601Z
UID:3771-1763058600-1763069400@www.lodge32.com
SUMMARY:MH32 - Stated Meeting
DESCRIPTION:
URL:https://www.lodge32.com/event/mh32-stated-meeting-2025-11/
LOCATION:Barberton Grange\, 9400 NE 72nd Ave\, Vancouver\, WA\, 98665\, United States
CATEGORIES:Stated Meeting
ATTACH;FMTTYPE=image/png:https://www.lodge32.com/wp-content/uploads/2022/12/cropped-MH32-Logo-Ideas-10.png
ORGANIZER;CN="Mt. Hood Lodge No. 32":MAILTO:mthoodlodgeno32@gmail.com
END:VEVENT
BEGIN:VEVENT
DTSTART;TZID=America/Los_Angeles:20251108T180000
DTEND;TZID=America/Los_Angeles:20251108T213000
DTSTAMP:20260423T084711
CREATED:20251028T174619Z
LAST-MODIFIED:20251028T174619Z
UID:3797-1762624800-1762637400@www.lodge32.com
SUMMARY:MH32 - Special Meeting
DESCRIPTION:
URL:https://www.lodge32.com/event/mh32-special-meeting-2025-11-08/
LOCATION:WA
CATEGORIES:Special Meeting
ATTACH;FMTTYPE=image/png:https://www.lodge32.com/wp-content/uploads/2022/12/cropped-MH32-Logo-Ideas-10.png
ORGANIZER;CN="Mt. Hood Lodge No. 32":MAILTO:mthoodlodgeno32@gmail.com
END:VEVENT
END:VCALENDAR